BEGIN:VCALENDAR
VERSION:2.0
PRODID:-//hacksw/handcal//NONSGML v1.0//EN
BEGIN:VEVENT
DTSTART:20170222T130000
DTEND:20170222T180000
LOCATION:https://appear.in/andeme
ORGANIZER;CN=Danièle PANHELLEUX:MAILTO:daniele.panhelleux@orange.fr
SUMMARY:Ateliers carrière - Ecrire un CV ou une lettre professionnelle
DESCRIPTION:- Document administratif et commercial\n- Compétences ou chronologie\n- Structures\n- Exemples\n• 22/02 à 13h durée 20min\n• 22/02 à 18h durée 20 min\nPour participer (cliquez ici) Inscrivez vous sur ...
URL:https://www.eseo-alumni.com/fr/event/ateliers-carriere-ecrire-un-cv-ou-une-lettre-professionnelle/2017/02/22/109
BEGIN:VALARM
TRIGGER:-P0DT1H0M0S
ACTION:DISPLAY
END:VALARM
END:VEVENT
END:VCALENDAR